Workbook

Sheet Application
A1: APPLICATION
A2: FOR THE DATABASE OF INTERNATIONAL EXPERTS/SPECIALISTS
A4: OPERATIONAL PROGRAMME RESEARCH AND INNOVATION
A6: 1. Personal information
B8: Personal ID:
B10: Name: | V10: Degree:
B12: Surname: | V12: Phone no.:
B14: Domicile:
B16: E-mail: | V16: Fax:
A18: 2. Education (highest completed level)
B20: Educ. institution:
B22: Address: | Z22: From - To:
B24: Level of education / diploma:
A26: 3. Relevant professional experience | N26: ( Current workplace)
B28: Name of organisation:
B30: Address:
B32: =IF(Hárok2!A21=FALSE,"From - To (yr):","From (year):") -> From (year): | M32: Work position:
B34: Activities:
A37: 4. Publications
B39: Overview of scientific publications in the respective field or under project co-operation:
B41: 1.
B42: 2.
B43: 3.
B44: 4.
B45: 5.
B46: 6.
B47: 7.
B48: 8.
A50: 5. Experience in project evaluation
B52: Have you had any experience in evaluating research projects and R&D infrastructure projects over
B53: the past five years?
AE54: =VLOOKUP(Hárok2!A20,Hárok2!B20:C21,2) -> YES
B56: Please, list the research projects and R&D infrastructure projects which you have evaluated over the past five years:
B58: Name of fund/programme | K58: Evaluated project | AE58: Year
B70: Other relevant information related to the evaluation of research projects and R&D infrastructure projects:
A74: 6. Experience in implementing projects at international and national levels
B76: What international level research projects have you been involved in over the past five years?
B78: Name of fund/Programme | K78: Name of the Project | AE78: Year
B90: What national level research projects have you been involved in over the past five years?
B92: Name of fund/Programme | K92: Name of the Project | AE92: Year
...

Sheet Hárok2
K1: FALSE | L1: FALSE | M1: FALSE | N1: FALSE | O1: FALSE | P1: FALSE | Q1: FALSE | R1: FALSE | S1: FALSE | T1: FALSE | U1: FALSE | V1: FALSE | W1: FALSE | X1: FALSE | Y1: FALSE | Z1: FALSE | AA1: FALSE | AB1: FALSE | AC1: FALSE | AD1: FALSE | AE1: FALSE | AF1: FALSE | AG1: FALSE | AH1: FALSE | AI1: FALSE | AJ1: FALSE | AK1: FALSE | AL1: FALSE | AM1: FALSE | AN1: FALSE | AO1: FALSE | AP1: FALSE | AQ1: FALSE | AR1: FALSE | AS1: FALSE | AT1: FALSE | AU1: FALSE | AV1: FALSE | AW1: FALSE | AX1: FALSE | AY1: FALSE | AZ1: FALSE | BA1: FALSE | BB1: FALSE | BC1: FALSE | BD1: FALSE | BE1: FALSE | BF1: FALSE | BG1: FALSE | BH1: FALSE | BI1: FALSE | BJ1: FALSE | BK1: FALSE | BL1: FALSE | BM1: FALSE | BN1: FALSE | BO1: FALSE | BP1: FALSE | BQ1: FALSE
B2: Rodne_cislo | C2: Meno | D2: Priezvisko | E2: Adresa | F2: Tel | G2: @ | H2: Nazov_O | I2: Adresa_O | J2: Skusen | K2: S1 | L2: S2 | M2: S3 | N2: S4 | O2: S5 | P2: S6 | Q2: S7 | R2: S8 | S2: S9 | T2: S10 | U2: S11 | V2: S12 | W2: S13 | X2: S14 | Y2: S15 | Z2: S16 | AA2: S17 | AB2: S18 | AC2: S19 | AD2: S20 | AE2: S21 | AF2: S22 | AG2: S23 | AH2: S24 | AI2: S25 | AJ2: S26 | AK2: S27 | AL2: S28 | AM2: S29 | AN2: S30 | AO2: S31 | AP2: S32 | AQ2: S33 | AR2: S34 | AS2: S35 | AT2: S36 | AU2: PO1 | AV2: PO2 | AW2: SC111 | AX2: SC112 | AY2: SC113 | AZ2: SC121 | BA2: SC211 | BB2: SC221 | BC2: S3_1 | BD2: S3_2 | BE2: S3_3 | BF2: S3_4 | BG2: S3_5 | BH2: S3_6 | BI2: S3_7 | BJ2: S3_8 | BK2: S3_9 | BL2: S3_10 | BM2: S3_11 | BN2: S3_12 | BO2: S3_13 | BP2: S3_14 | BQ2: S3_15 | BR2: Kontakt_1 | BS2: Kontakt_2 | BT2: Kontakt_3 | BU2: Heslo
B3: =Application!H8 -> 0 | C3: =Application!H10 -> 0 | D3: =Application!H12 -> 0 | E3: =Application!H14 -> 0 | F3: =Application!Z12 -> 0 | G3: =Application!H16 -> 0 | H3: =Application!J28 -> 0 | I3: =Application!J30 -> 0 | J3: =IF(A20=1,"YES","NO") -> YES | K3: =IF(K1=FALSE,0,1) -> 0 | L3: =IF(L1=FALSE,0,1) -> 0 | M3: =IF(M1=FALSE,0,1) -> 0 | N3: =IF(N1=FALSE,0,1) -> 0 | O3: =IF(O1=FALSE,0,1) -> 0 | P3: =IF(P1=FALSE,0,1) -> 0 | Q3: =IF(Q1=FALSE,0,1) -> 0 | R3: =IF(R1=FALSE,0,1) -> 0 | ... BQ3: =IF(BQ1=FALSE,0,1) -> 0 | BR3: =Application!B249 -> 0 | BS3: =Application!B251 -> 0 | BT3: =Application!B253 -> 0 | BU3: =Application!#REF! -> #REF!
A15: FALSE
A20: 1 | B20: 1 | C20: YES
A21: TRUE | B21: 2 | C21: NO
B22: 3
B23: 4
B24: 5
B25: 6
B26: 7
B27: 8
B28: 9
B29: 10
